BEGIN:VCALENDAR
VERSION:2.0
PRODID:-// - ECPv6.13.2.1//NONSGML v1.0//EN
CALSCALE:GREGORIAN
METHOD:PUBLISH
X-ORIGINAL-URL:https://liganatacionbogota.com
X-WR-CALDESC:Eventos para 
REFRESH-INTERVAL;VALUE=DURATION:PT1H
X-Robots-Tag:noindex
X-PUBLISHED-TTL:PT1H
BEGIN:VTIMEZONE
TZID:America/Bogota
BEGIN:STANDARD
TZOFFSETFROM:-0500
TZOFFSETTO:-0500
TZNAME:-05
DTSTART:20240101T000000
END:STANDARD
END:VTIMEZONE
BEGIN:VEVENT
DTSTART;TZID=America/Bogota:20250621T080000
DTEND;TZID=America/Bogota:20250622T170000
DTSTAMP:20260423T125105
CREATED:20250207T155909Z
LAST-MODIFIED:20250207T155909Z
UID:2340-1750492800-1750611600@liganatacionbogota.com
SUMMARY:Torneo Interclubes de Natación - Club El Rancho
DESCRIPTION:
URL:https://liganatacionbogota.com/event/torneo-interclubes-de-natacion-club-el-rancho/
END:VEVENT
BEGIN:VEVENT
DTSTART;TZID=America/Bogota:20250606T080000
DTEND;TZID=America/Bogota:20250607T170000
DTSTAMP:20260423T125105
CREATED:20250207T155936Z
LAST-MODIFIED:20250207T155936Z
UID:2342-1749196800-1749315600@liganatacionbogota.com
SUMMARY:Torneo Lagartos
DESCRIPTION:
URL:https://liganatacionbogota.com/event/torneo-lagartos/
END:VEVENT
BEGIN:VEVENT
DTSTART;TZID=America/Bogota:20250523T080000
DTEND;TZID=America/Bogota:20250525T170000
DTSTAMP:20260423T125105
CREATED:20250207T155718Z
LAST-MODIFIED:20250207T155718Z
UID:2336-1747987200-1748192400@liganatacionbogota.com
SUMMARY:Torneo Bogotano de Nivelación I
DESCRIPTION:
URL:https://liganatacionbogota.com/event/torneo-bogotano-de-nivelacion-i/
END:VEVENT
BEGIN:VEVENT
DTSTART;TZID=America/Bogota:20250516T080000
DTEND;TZID=America/Bogota:20250518T170000
DTSTAMP:20260423T125105
CREATED:20250207T155629Z
LAST-MODIFIED:20250207T155629Z
UID:2334-1747382400-1747587600@liganatacionbogota.com
SUMMARY:Colsubsidio Piscina Corta
DESCRIPTION:
URL:https://liganatacionbogota.com/event/colsubsidio-piscina-corta/
END:VEVENT
BEGIN:VEVENT
DTSTART;TZID=America/Bogota:20250516T080000
DTEND;TZID=America/Bogota:20250518T170000
DTSTAMP:20260423T125105
CREATED:20250207T155546Z
LAST-MODIFIED:20250207T155546Z
UID:2332-1747382400-1747587600@liganatacionbogota.com
SUMMARY:Primer Torneo Bogotano Clavados
DESCRIPTION:
URL:https://liganatacionbogota.com/event/primer-torneo-bogotano-clavados/
END:VEVENT
BEGIN:VEVENT
DTSTART;TZID=America/Bogota:20250502T080000
DTEND;TZID=America/Bogota:20250504T170000
DTSTAMP:20260423T125105
CREATED:20250207T155519Z
LAST-MODIFIED:20250207T155519Z
UID:2330-1746172800-1746378000@liganatacionbogota.com
SUMMARY:Arrayanes Copa Presidente Máster y Categorías
DESCRIPTION:
URL:https://liganatacionbogota.com/event/arrayanes-copa-presidente-master-y-categorias/
END:VEVENT
BEGIN:VEVENT
DTSTART;TZID=America/Bogota:20250501T080000
DTEND;TZID=America/Bogota:20250501T170000
DTSTAMP:20260423T125105
CREATED:20250207T155418Z
LAST-MODIFIED:20250207T155418Z
UID:2328-1746086400-1746118800@liganatacionbogota.com
SUMMARY:Festival de Menores Arrayanes
DESCRIPTION:
URL:https://liganatacionbogota.com/event/festival-de-menores-arrayanes/
END:VEVENT
BEGIN:VEVENT
DTSTART;TZID=America/Bogota:20250425T080000
DTEND;TZID=America/Bogota:20250427T170000
DTSTAMP:20260423T125105
CREATED:20250207T155345Z
LAST-MODIFIED:20250207T155345Z
UID:2326-1745568000-1745773200@liganatacionbogota.com
SUMMARY:Torneo Bogotano Clasificatorio Interligas
DESCRIPTION:
URL:https://liganatacionbogota.com/event/torneo-bogotano-clasificatorio-interligas/
END:VEVENT
BEGIN:VEVENT
DTSTART;TZID=America/Bogota:20250405T080000
DTEND;TZID=America/Bogota:20250406T170000
DTSTAMP:20260423T125105
CREATED:20250207T155235Z
LAST-MODIFIED:20250207T155235Z
UID:2324-1743840000-1743958800@liganatacionbogota.com
SUMMARY:Primer Torneo Bogotano Natación Artística
DESCRIPTION:
URL:https://liganatacionbogota.com/event/primer-torneo-bogotano-natacion-artistica/
END:VEVENT
BEGIN:VEVENT
DTSTART;TZID=America/Bogota:20250315T080000
DTEND;TZID=America/Bogota:20250315T170000
DTSTAMP:20260423T125105
CREATED:20250207T155112Z
LAST-MODIFIED:20250207T155112Z
UID:2320-1742025600-1742058000@liganatacionbogota.com
SUMMARY:Festival de Buhitos
DESCRIPTION:
URL:https://liganatacionbogota.com/event/festival-de-buhitos/
END:VEVENT
BEGIN:VEVENT
DTSTART;TZID=America/Bogota:20250308T080000
DTEND;TZID=America/Bogota:20250309T170000
DTSTAMP:20260423T125105
CREATED:20250207T155148Z
LAST-MODIFIED:20250225T154825Z
UID:2322-1741420800-1741539600@liganatacionbogota.com
SUMMARY:Torneo Bogotano Apertura I
DESCRIPTION:
URL:https://liganatacionbogota.com/event/torneo-bogotano-apertura-i/
END:VEVENT
BEGIN:VEVENT
DTSTART;TZID=America/Bogota:20250228T080000
DTEND;TZID=America/Bogota:20250301T170000
DTSTAMP:20260423T125105
CREATED:20250207T155006Z
LAST-MODIFIED:20250207T155006Z
UID:2318-1740729600-1740848400@liganatacionbogota.com
SUMMARY:Torneo Club El Nogal
DESCRIPTION:
URL:https://liganatacionbogota.com/event/torneo-club-el-nogal/
END:VEVENT
BEGIN:VEVENT
DTSTART;TZID=America/Bogota:20241115T080000
DTEND;TZID=America/Bogota:20241116T170000
DTSTAMP:20260423T125105
CREATED:20240206T020209Z
LAST-MODIFIED:20240206T020209Z
UID:1927-1731657600-1731776400@liganatacionbogota.com
SUMMARY:Torneo Country Club (Country Club)
DESCRIPTION:
URL:https://liganatacionbogota.com/event/torneo-country-club-country-club/
END:VEVENT
BEGIN:VEVENT
DTSTART;TZID=America/Bogota:20241103T080000
DTEND;TZID=America/Bogota:20241103T170000
DTSTAMP:20260423T125105
CREATED:20240206T020101Z
LAST-MODIFIED:20240206T020101Z
UID:1925-1730620800-1730653200@liganatacionbogota.com
SUMMARY:Festival Interclubes Infantil y Menores de Natación (Club el Rancho)
DESCRIPTION:
URL:https://liganatacionbogota.com/event/festival-interclubes-infantil-y-menores-de-natacion-club-el-rancho/
END:VEVENT
BEGIN:VEVENT
DTSTART;TZID=America/Bogota:20241101T080000
DTEND;TZID=America/Bogota:20241103T170000
DTSTAMP:20260423T125105
CREATED:20240206T020253Z
LAST-MODIFIED:20240802T152319Z
UID:1929-1730448000-1730653200@liganatacionbogota.com
SUMMARY:Torneo Bogotano Categorías
DESCRIPTION:
URL:https://liganatacionbogota.com/event/torneo-bogotano-categorias/
END:VEVENT
BEGIN:VEVENT
DTSTART;TZID=America/Bogota:20241025T080000
DTEND;TZID=America/Bogota:20241026T170000
DTSTAMP:20260423T125105
CREATED:20240206T015900Z
LAST-MODIFIED:20240206T015900Z
UID:1923-1729843200-1729962000@liganatacionbogota.com
SUMMARY:Torneo Gimnasio Moderno (Colegio Gimnasio Moderno)
DESCRIPTION:
URL:https://liganatacionbogota.com/event/torneo-gimnasio-moderno-colegio-gimnasio-moderno/
END:VEVENT
BEGIN:VEVENT
DTSTART;TZID=America/Bogota:20241004T080000
DTEND;TZID=America/Bogota:20241006T170000
DTSTAMP:20260423T125105
CREATED:20240206T015702Z
LAST-MODIFIED:20240206T015702Z
UID:1921-1728028800-1728234000@liganatacionbogota.com
SUMMARY:Torneo Bogotano Nivelación II Semestre
DESCRIPTION:
URL:https://liganatacionbogota.com/event/torneo-bogotano-nivelacion-ii-semestre/
END:VEVENT
BEGIN:VEVENT
DTSTART;TZID=America/Bogota:20240927T080000
DTEND;TZID=America/Bogota:20240929T170000
DTSTAMP:20260423T125105
CREATED:20240206T021632Z
LAST-MODIFIED:20240206T021632Z
UID:1949-1727424000-1727629200@liganatacionbogota.com
SUMMARY:Campeonato Nacional Interligas Sub 14 (Polo Acuático)
DESCRIPTION:
URL:https://liganatacionbogota.com/event/campeonato-nacional-interligas-sub-14-polo-acuatico/
END:VEVENT
BEGIN:VEVENT
DTSTART;TZID=America/Bogota:20240921T080000
DTEND;TZID=America/Bogota:20240922T170000
DTSTAMP:20260423T125105
CREATED:20240206T020959Z
LAST-MODIFIED:20240206T020959Z
UID:1937-1726905600-1727024400@liganatacionbogota.com
SUMMARY:Segundo Torneo Bogotano de Natación Artística
DESCRIPTION:
URL:https://liganatacionbogota.com/event/segundo-torneo-bogotano-de-natacion-artistica/
END:VEVENT
BEGIN:VEVENT
DTSTART;TZID=America/Bogota:20240921T080000
DTEND;TZID=America/Bogota:20240922T170000
DTSTAMP:20260423T125105
CREATED:20240206T015602Z
LAST-MODIFIED:20240206T015602Z
UID:1919-1726905600-1727024400@liganatacionbogota.com
SUMMARY:Torneo Interclubes Hatogrande (Club Hatogrande)
DESCRIPTION:
URL:https://liganatacionbogota.com/event/torneo-interclubes-hatogrande-club-hatogrande/
END:VEVENT
BEGIN:VEVENT
DTSTART;TZID=America/Bogota:20240914T080000
DTEND;TZID=America/Bogota:20240915T170000
DTSTAMP:20260423T125105
CREATED:20240829T133229Z
LAST-MODIFIED:20240829T133229Z
UID:2242-1726300800-1726419600@liganatacionbogota.com
SUMMARY:I Festival Anual Narvales - Fanaticos del Agua
DESCRIPTION:
URL:https://liganatacionbogota.com/event/i-festival-anual-narvales-fanaticos-del-agua/
END:VEVENT
BEGIN:VEVENT
DTSTART;TZID=America/Bogota:20240906T080000
DTEND;TZID=America/Bogota:20240908T170000
DTSTAMP:20260423T125105
CREATED:20240206T015500Z
LAST-MODIFIED:20240206T015500Z
UID:1917-1725609600-1725814800@liganatacionbogota.com
SUMMARY:Torneo Apertura II Semestre
DESCRIPTION:
URL:https://liganatacionbogota.com/event/torneo-apertura-ii-semestre/
END:VEVENT
BEGIN:VEVENT
DTSTART;TZID=America/Bogota:20240823T080000
DTEND;TZID=America/Bogota:20240824T170000
DTSTAMP:20260423T125105
CREATED:20240206T015406Z
LAST-MODIFIED:20240206T015406Z
UID:1915-1724400000-1724518800@liganatacionbogota.com
SUMMARY:Torneo Interclubes Copa Búhos (Club los Búhos)
DESCRIPTION:
URL:https://liganatacionbogota.com/event/torneo-interclubes-copa-buhos-club-los-buhos/
END:VEVENT
BEGIN:VEVENT
DTSTART;TZID=America/Bogota:20240809T080000
DTEND;TZID=America/Bogota:20240811T170000
DTSTAMP:20260423T125105
CREATED:20240206T021043Z
LAST-MODIFIED:20240206T021043Z
UID:1939-1723190400-1723395600@liganatacionbogota.com
SUMMARY:Torneo Bogotano de Polo Acuático
DESCRIPTION:
URL:https://liganatacionbogota.com/event/torneo-bogotano-de-polo-acuatico/
END:VEVENT
BEGIN:VEVENT
DTSTART;TZID=America/Bogota:20240607T080000
DTEND;TZID=America/Bogota:20240609T170000
DTSTAMP:20260423T125105
CREATED:20240206T021153Z
LAST-MODIFIED:20240206T021153Z
UID:1941-1717747200-1717952400@liganatacionbogota.com
SUMMARY:I Festival Nacional de Novatos (Clavados)
DESCRIPTION:
URL:https://liganatacionbogota.com/event/i-festival-nacional-de-novatos-clavados/
END:VEVENT
BEGIN:VEVENT
DTSTART;TZID=America/Bogota:20240523T080000
DTEND;TZID=America/Bogota:20240525T170000
DTSTAMP:20260423T125105
CREATED:20240206T014709Z
LAST-MODIFIED:20240520T150434Z
UID:1911-1716451200-1716656400@liganatacionbogota.com
SUMMARY:Torneo Bogotano Nivelación
DESCRIPTION:
URL:https://liganatacionbogota.com/event/torneo-bogotano-nivelacion/
END:VEVENT
BEGIN:VEVENT
DTSTART;TZID=America/Bogota:20240503T080000
DTEND;TZID=America/Bogota:20240505T170000
DTSTAMP:20260423T125105
CREATED:20240412T115928Z
LAST-MODIFIED:20240412T115928Z
UID:2109-1714723200-1714928400@liganatacionbogota.com
SUMMARY:Copa Presidente - Infantil\, Juvenil\, Mayores y Master (Club Arrayanes)
DESCRIPTION:
URL:https://liganatacionbogota.com/event/copa-presidente-infantil-juvenil-mayores-y-master-club-arrayanes/
END:VEVENT
BEGIN:VEVENT
DTSTART;TZID=America/Bogota:20240501T080000
DTEND;TZID=America/Bogota:20240501T170000
DTSTAMP:20260423T125105
CREATED:20240412T115811Z
LAST-MODIFIED:20240412T115811Z
UID:2107-1714550400-1714582800@liganatacionbogota.com
SUMMARY:Festival de Menores (Club Arrayanes)
DESCRIPTION:
URL:https://liganatacionbogota.com/event/festival-de-menores-club-arrayanes/
END:VEVENT
BEGIN:VEVENT
DTSTART;TZID=America/Bogota:20240427T080000
DTEND;TZID=America/Bogota:20240428T170000
DTSTAMP:20260423T125105
CREATED:20240206T020858Z
LAST-MODIFIED:20240206T020858Z
UID:1935-1714204800-1714323600@liganatacionbogota.com
SUMMARY:Primer Torneo Bogotano de Natación Artística
DESCRIPTION:
URL:https://liganatacionbogota.com/event/primer-torneo-bogotano-de-natacion-artistica/
END:VEVENT
BEGIN:VEVENT
DTSTART;TZID=America/Bogota:20240316T080000
DTEND;TZID=America/Bogota:20240316T170000
DTSTAMP:20260423T125105
CREATED:20240206T014311Z
LAST-MODIFIED:20240206T014311Z
UID:1903-1710576000-1710608400@liganatacionbogota.com
SUMMARY:Festival Buhitos (Club los Búhos)
DESCRIPTION:
URL:https://liganatacionbogota.com/event/festival-buhitos-club-los-buhos/
END:VEVENT
END:VCALENDAR